BEGIN:VCALENDAR
VERSION:2.0
PRODID:-//Local Buying Foundation - ECPv5.0.0//NONSGML v1.0//EN
CALSCALE:GREGORIAN
METHOD:PUBLISH
X-WR-CALNAME:Local Buying Foundation
X-ORIGINAL-URL:https://localbuyingfoundation.com.au
X-WR-CALDESC:Events for Local Buying Foundation
BEGIN:VTIMEZONE
TZID:Australia/Brisbane
BEGIN:STANDARD
TZOFFSETFROM:+1000
TZOFFSETTO:+1000
TZNAME:AEST
DTSTART:20190101T000000
END:STANDARD
END:VTIMEZONE
BEGIN:VEVENT
DTSTART;TZID=Australia/Brisbane:20190322T080000
DTEND;TZID=Australia/Brisbane:20190322T170000
DTSTAMP:20200229T143149
CREATED:20190131T183454Z
LAST-MODIFIED:20190131T183456Z
UID:161-1553241600-1553274000@localbuyingfoundation.com.au
SUMMARY:RIN Safety Conference 2019
DESCRIPTION:\n\n\nQLD – The Resource Industry Network 2019 Safety Conference will provide you with the latest industry information from inspirational speakers and experts. Maintaining high safety standards while competing in a tight economy can be challenging for many businesses. The 2019 Resource Industry Network Safety Conference is an interactive one day conference will provide you with the opportunity to gain further knowledge on a number of key safety topics. \n\n\n\n\n\n\n\n\n\n\n
URL:https://localbuyingfoundation.com.au/event/rin-safety-conference-2019/
CATEGORIES:Conference,LBF QLD
ATTACH;FMTTYPE=image/jpeg:https://localbuyingfoundation.com.au/wp-content/uploads/2019/01/RIN_Safety2017_124_BDB_0514_High_Res-2.jpg
END:VEVENT
END:VCALENDAR