BEGIN:VCALENDAR
VERSION:2.0
PRODID:-//Local Buying Foundation - ECPv5.0.0//NONSGML v1.0//EN
CALSCALE:GREGORIAN
METHOD:PUBLISH
X-WR-CALNAME:Local Buying Foundation
X-ORIGINAL-URL:https://localbuyingfoundation.com.au
X-WR-CALDESC:Events for Local Buying Foundation
BEGIN:VTIMEZONE
TZID:Australia/Brisbane
BEGIN:STANDARD
TZOFFSETFROM:+1000
TZOFFSETTO:+1000
TZNAME:AEST
DTSTART:20190101T000000
END:STANDARD
END:VTIMEZONE
BEGIN:VEVENT
DTSTART;TZID=Australia/Brisbane:20190517T183000
DTEND;TZID=Australia/Brisbane:20190517T223000
DTSTAMP:20200229T143830
CREATED:20190320T215532Z
LAST-MODIFIED:20190320T215533Z
UID:478-1558117800-1558132200@localbuyingfoundation.com.au
SUMMARY:RIN Awards Gala Dinner
DESCRIPTION:\n\n\nSince 2008\, the RIN Awards (formerly Chairman’s Awards) Night has recognised the outstanding achievements of the region’s companies over the previous twelve months. It recognises excellence in business and the significant contribution that they make to the regional economy and community. The awards program provides a means by which outstanding performance can be revealed\, acknowledged and celebrated by the whole sector. \n\n\n\nThe Gala Dinner will be held on Friday 17th May 2019 at the Mackay Entertainment and Convention Centre.   \n\n\n\n\n\n\n\n\n\n\n
URL:https://localbuyingfoundation.com.au/event/rin-awards-gala-dinner/
CATEGORIES:Sponsorship
ATTACH;FMTTYPE=image/jpeg:https://localbuyingfoundation.com.au/wp-content/uploads/2019/03/RIN_Awards_2018_088_BDB_0208_Low_Res.jpg
END:VEVENT
END:VCALENDAR