BEGIN:VCALENDAR
VERSION:2.0
PRODID:-//Local Buying Foundation - ECPv5.0.0//NONSGML v1.0//EN
CALSCALE:GREGORIAN
METHOD:PUBLISH
X-WR-CALNAME:Local Buying Foundation
X-ORIGINAL-URL:https://localbuyingfoundation.com.au
X-WR-CALDESC:Events for Local Buying Foundation
BEGIN:VTIMEZONE
TZID:Australia/Brisbane
BEGIN:STANDARD
TZOFFSETFROM:+1000
TZOFFSETTO:+1000
TZNAME:AEST
DTSTART:20190101T000000
END:STANDARD
END:VTIMEZONE
BEGIN:VEVENT
DTSTART;TZID=Australia/Brisbane:20190430T083000
DTEND;TZID=Australia/Brisbane:20190430T130000
DTSTAMP:20200229T143743
CREATED:20190320T214200Z
LAST-MODIFIED:20190320T214200Z
UID:469-1556613000-1556629200@localbuyingfoundation.com.au
SUMMARY:CHBEA 2019 Workshop: Xero to Hero Bookkeeping
DESCRIPTION:\n			\n		\n			\n		\n\n\nCHDC Welcomes you to our Business workshop series. \n\n\n\nFrom March to June you can take advantage of or business education workshops. \n\n\n\nThe workshops\, funded by the Local Buying Foundation\, are: \n\n\n\n• Xero to Hero Bookkeeping – For Beginners • Xero to Hero Bookkeeping – For Advanced • Storytelling on Social Media• Communication Strategies & Customer Service• MYOB Bookkeeping & Interactive Webinar• Quickbooks Bookkeeping & Interactive Webinar \n\n\n\n\n\n\n\n\n\n\n\n		\n	\n	\n			\n		\n		
URL:https://localbuyingfoundation.com.au/event/chbea-2019-workshop-xero-to-hero-bookkeeping-2019-04-30/
CATEGORIES:Workshop
ATTACH;FMTTYPE=image/png:https://localbuyingfoundation.com.au/wp-content/uploads/2019/03/CHBEA19Workshops.png
END:VEVENT
END:VCALENDAR